Package: raer Version: 1.4.0 Command: /home/biocbuild/bbs-3.20-bioc/R/bin/R CMD build --keep-empty-dirs --no-resave-data --md5 raer StartedAt: 2025-02-03 18:52:00 -0500 (Mon, 03 Feb 2025) EndedAt: 2025-02-03 18:58:45 -0500 (Mon, 03 Feb 2025) EllapsedTime: 405.5 seconds RetCode: 0 Status: OK PackageFile: raer_1.4.0.tar.gz PackageFileSize: 2.381 MiB