Package: rain Version: 1.40.0 Command: /Library/Frameworks/R.framework/Resources/bin/R CMD build --keep-empty-dirs --no-resave-data rain StartedAt: 2025-02-04 06:10:27 -0500 (Tue, 04 Feb 2025) EndedAt: 2025-02-04 06:11:01 -0500 (Tue, 04 Feb 2025) EllapsedTime: 34.2 seconds RetCode: 0 Status: OK PackageFile: rain_1.40.0.tar.gz PackageFileSize: 604.7 KiB