Package: rain Version: 1.40.0 Command: /Library/Frameworks/R.framework/Resources/bin/R CMD check --install=check:rain.install-out.txt --library=/Library/Frameworks/R.framework/Resources/library --no-vignettes --timings rain_1.40.0.tar.gz StartedAt: 2025-02-05 06:40:03 -0500 (Wed, 05 Feb 2025) EndedAt: 2025-02-05 06:41:03 -0500 (Wed, 05 Feb 2025) EllapsedTime: 60.2 seconds RetCode: 0 Status: OK CheckDir: rain.Rcheck Warnings: 0