Package: rain Version: 1.40.0 Command: /Library/Frameworks/R.framework/Resources/bin/R CMD INSTALL rain StartedAt: 2025-02-03 17:24:02 -0500 (Mon, 03 Feb 2025) EndedAt: 2025-02-03 17:24:10 -0500 (Mon, 03 Feb 2025) EllapsedTime: 8.2 seconds RetCode: 0 Status: OK