Package: rain Version: 1.40.0 Command: /home/biocbuild/bbs-3.20-bioc/R/bin/R CMD build --keep-empty-dirs --no-resave-data --md5 rain StartedAt: 2025-02-03 18:52:14 -0500 (Mon, 03 Feb 2025) EndedAt: 2025-02-03 18:52:42 -0500 (Mon, 03 Feb 2025) EllapsedTime: 28.0 seconds RetCode: 0 Status: OK PackageFile: rain_1.40.0.tar.gz PackageFileSize: 605.1 KiB