Package: rain Version: 1.40.0 Command: /home/biocbuild/bbs-3.20-bioc/R/bin/R CMD check --install=check:rain.install-out.txt --library=/home/biocbuild/bbs-3.20-bioc/R/site-library --timings rain_1.40.0.tar.gz StartedAt: 2025-02-04 01:33:42 -0500 (Tue, 04 Feb 2025) EndedAt: 2025-02-04 01:34:46 -0500 (Tue, 04 Feb 2025) EllapsedTime: 64.1 seconds RetCode: 0 Status: OK CheckDir: rain.Rcheck Warnings: 0