Package: rain Version: 1.40.0 Command: /home/biocbuild/bbs-3.20-bioc/R/bin/R CMD INSTALL rain StartedAt: 2025-02-03 15:55:03 -0500 (Mon, 03 Feb 2025) EndedAt: 2025-02-03 15:55:10 -0500 (Mon, 03 Feb 2025) EllapsedTime: 7.0 seconds RetCode: 0 Status: OK