Package: rain Version: 1.40.0 Command: F:\biocbuild\bbs-3.20-bioc\R\bin\R.exe CMD check --no-multiarch --install=check:rain.install-out.txt --library=F:\biocbuild\bbs-3.20-bioc\R\library --no-vignettes --timings rain_1.40.0.tar.gz StartedAt: 2025-02-04 05:16:11 -0500 (Tue, 04 Feb 2025) EndedAt: 2025-02-04 05:17:17 -0500 (Tue, 04 Feb 2025) EllapsedTime: 66.0 seconds RetCode: 0 Status: OK CheckDir: rain.Rcheck Warnings: 0