Package: rain Version: 1.40.0 Command: F:\biocbuild\bbs-3.20-bioc\R\bin\R.exe CMD INSTALL rain StartedAt: 2025-02-03 16:12:56 -0500 (Mon, 03 Feb 2025) EndedAt: 2025-02-03 16:13:08 -0500 (Mon, 03 Feb 2025) EllapsedTime: 11.9 seconds RetCode: 0 Status: OK