Package: rain Version: 1.40.0 Command: /home/biocbuild/R/R/bin/R CMD INSTALL rain StartedAt: 2025-02-03 21:09:44 -0000 (Mon, 03 Feb 2025) EndedAt: 2025-02-03 21:09:52 -0000 (Mon, 03 Feb 2025) EllapsedTime: 8.9 seconds RetCode: 0 Status: OK