Package: ramr Version: 1.14.0 Command: /Library/Frameworks/R.framework/Resources/bin/R CMD build --keep-empty-dirs --no-resave-data ramr StartedAt: 2025-01-30 22:04:32 -0500 (Thu, 30 Jan 2025) EndedAt: 2025-01-30 22:07:32 -0500 (Thu, 30 Jan 2025) EllapsedTime: 180.2 seconds RetCode: 0 Status: OK PackageFile: ramr_1.14.0.tar.gz PackageFileSize: 2.666 MiB