Package: ramr Version: 1.14.0 Command: /home/biocbuild/R/R/bin/R CMD build --keep-empty-dirs --no-resave-data ramr StartedAt: 2025-02-04 02:04:54 -0000 (Tue, 04 Feb 2025) EndedAt: 2025-02-04 02:06:38 -0000 (Tue, 04 Feb 2025) EllapsedTime: 103.2 seconds RetCode: 0 Status: OK PackageFile: ramr_1.14.0.tar.gz PackageFileSize: 2.261 MiB