Package: ramr Version: 1.14.0 Command: /home/biocbuild/R/R/bin/R CMD INSTALL ramr StartedAt: 2025-02-03 20:48:26 -0000 (Mon, 03 Feb 2025) EndedAt: 2025-02-03 20:48:41 -0000 (Mon, 03 Feb 2025) EllapsedTime: 14.1 seconds RetCode: 0 Status: OK