Package: ramwas
Version: 1.29.0
Command: chmod a+r ramwas -R && F:\biocbuild\bbs-3.20-bioc\R\bin\R.exe CMD build --keep-empty-dirs --no-resave-data ramwas
StartedAt: 2024-06-09 21:31:52 -0400 (Sun, 09 Jun 2024)
EndedAt: 2024-06-09 21:38:15 -0400 (Sun, 09 Jun 2024)
EllapsedTime: 382.7 seconds
RetCode: 0
Status: OK
PackageFile: ramwas_1.29.0.tar.gz
PackageFileSize: 2.077 <A href="http://en.wikipedia.org/wiki/MiB" target="_blank">MiB</A>