Package: ramwas
Version: 1.29.0
Command: C:\Users\biocbuild\bbs-3.20-bioc\R\bin\R.exe CMD INSTALL ramwas
StartedAt: 2024-07-15 15:56:22 -0400 (Mon, 15 Jul 2024)
EndedAt: 2024-07-15 15:57:12 -0400 (Mon, 15 Jul 2024)
EllapsedTime: 49.9 seconds
RetCode: 0
Status: OK