Package: ramwas Version: 1.30.0 Command: F:\biocbuild\bbs-3.20-bioc\R\bin\R.exe CMD check --no-multiarch --install=check:ramwas.install-out.txt --library=F:\biocbuild\bbs-3.20-bioc\R\library --no-vignettes --timings ramwas_1.30.0.tar.gz StartedAt: 2025-02-04 05:16:13 -0500 (Tue, 04 Feb 2025) EndedAt: 2025-02-04 05:21:00 -0500 (Tue, 04 Feb 2025) EllapsedTime: 286.5 seconds RetCode: 0 Status: OK CheckDir: ramwas.Rcheck Warnings: 0