Package: randPack Version: 1.52.0 Command: /Library/Frameworks/R.framework/Resources/bin/R CMD check --install=check:randPack.install-out.txt --library=/Library/Frameworks/R.framework/Resources/library --no-vignettes --timings randPack_1.52.0.tar.gz StartedAt: 2025-02-01 05:55:25 -0500 (Sat, 01 Feb 2025) EndedAt: 2025-02-01 05:56:02 -0500 (Sat, 01 Feb 2025) EllapsedTime: 36.9 seconds RetCode: 0 Status: OK CheckDir: randPack.Rcheck Warnings: 0