Package: randPack Version: 1.52.0 Command: /Library/Frameworks/R.framework/Resources/bin/R CMD check --install=check:randPack.install-out.txt --library=/Library/Frameworks/R.framework/Resources/library --no-vignettes --timings randPack_1.52.0.tar.gz StartedAt: 2024-11-09 10:41:23 -0500 (Sat, 09 Nov 2024) EndedAt: 2024-11-09 10:45:19 -0500 (Sat, 09 Nov 2024) EllapsedTime: 235.3 seconds RetCode: 0 Status: OK CheckDir: randPack.Rcheck Warnings: 0