Package: randPack Version: 1.52.0 Command: /Library/Frameworks/R.framework/Resources/bin/R CMD build --keep-empty-dirs --no-resave-data randPack StartedAt: 2025-01-30 22:04:59 -0500 (Thu, 30 Jan 2025) EndedAt: 2025-01-30 22:05:20 -0500 (Thu, 30 Jan 2025) EllapsedTime: 20.3 seconds RetCode: 0 Status: OK PackageFile: randPack_1.52.0.tar.gz PackageFileSize: 252.9 KiB