Package: randPack Version: 1.52.0 Command: rm -rf randPack.buildbin-libdir && mkdir randPack.buildbin-libdir && F:\biocbuild\bbs-3.20-bioc\R\bin\R.exe CMD INSTALL --build --library=randPack.buildbin-libdir randPack_1.52.0.tar.gz StartedAt: 2025-01-31 09:21:53 -0500 (Fri, 31 Jan 2025) EndedAt: 2025-01-31 09:22:17 -0500 (Fri, 31 Jan 2025) EllapsedTime: 23.8 seconds RetCode: 0 Status: OK PackageFile: randPack_1.52.0.zip PackageFileSize: 355.1 KiB