Package: randPack Version: 1.52.0 Command: chmod a+r randPack -R && F:\biocbuild\bbs-3.20-bioc\R\bin\R.exe CMD build --keep-empty-dirs --no-resave-data randPack StartedAt: 2025-01-30 21:13:55 -0500 (Thu, 30 Jan 2025) EndedAt: 2025-01-30 21:14:10 -0500 (Thu, 30 Jan 2025) EllapsedTime: 15.1 seconds RetCode: 0 Status: OK PackageFile: randPack_1.52.0.tar.gz PackageFileSize: 143.7 KiB