Package: randPack Version: 1.52.0 Command: F:\biocbuild\bbs-3.20-bioc\R\bin\R.exe CMD check --no-multiarch --install=check:randPack.install-out.txt --library=F:\biocbuild\bbs-3.20-bioc\R\library --no-vignettes --timings randPack_1.52.0.tar.gz StartedAt: 2025-01-31 05:28:12 -0500 (Fri, 31 Jan 2025) EndedAt: 2025-01-31 05:28:52 -0500 (Fri, 31 Jan 2025) EllapsedTime: 40.3 seconds RetCode: 0 Status: OK CheckDir: randPack.Rcheck Warnings: 0