Package: randPack Version: 1.52.0 Command: F:\biocbuild\bbs-3.20-bioc\R\bin\R.exe CMD INSTALL randPack StartedAt: 2025-01-30 15:22:45 -0500 (Thu, 30 Jan 2025) EndedAt: 2025-01-30 15:23:16 -0500 (Thu, 30 Jan 2025) EllapsedTime: 31.0 seconds RetCode: 0 Status: OK