Package: rawDiag
Version: 1.2.0
Command: /Library/Frameworks/R.framework/Resources/bin/R CMD build --keep-empty-dirs --no-resave-data rawDiag
StartedAt: 2024-11-19 18:16:59 -0500 (Tue, 19 Nov 2024)
EndedAt: 2024-11-19 18:18:28 -0500 (Tue, 19 Nov 2024)
EllapsedTime: 88.8 seconds
RetCode: 0
Status: OK
PackageFile: rawDiag_1.2.0.tar.gz
PackageFileSize: 2.07 <A href="http://en.wikipedia.org/wiki/MiB" target="_blank">MiB</A>