Package: rawDiag Version: 1.2.0 Command: /Library/Frameworks/R.framework/Resources/bin/R CMD check --install=check:rawDiag.install-out.txt --library=/Library/Frameworks/R.framework/Resources/library --no-vignettes --timings rawDiag_1.2.0.tar.gz StartedAt: 2025-02-04 08:35:28 -0500 (Tue, 04 Feb 2025) EndedAt: 2025-02-04 08:38:55 -0500 (Tue, 04 Feb 2025) EllapsedTime: 207.2 seconds RetCode: 0 Status: OK CheckDir: rawDiag.Rcheck Warnings: 0