Package: rawDiag Version: 1.2.0 Command: /home/biocbuild/bbs-3.20-bioc/R/bin/R CMD INSTALL rawDiag StartedAt: 2025-02-17 15:37:28 -0500 (Mon, 17 Feb 2025) EndedAt: 2025-02-17 15:37:34 -0500 (Mon, 17 Feb 2025) EllapsedTime: 5.3 seconds RetCode: 0 Status: OK