Package: rawDiag Version: 1.1.4 Command: C:\Users\biocbuild\bbs-3.20-bioc\R\bin\R.exe CMD check --no-multiarch --install=check:rawDiag.install-out.txt --library=C:\Users\biocbuild\bbs-3.20-bioc\R\library --no-vignettes --timings rawDiag_1.1.4.tar.gz StartedAt: 2024-07-15 02:32:30 -0400 (Mon, 15 Jul 2024) EndedAt: 2024-07-15 02:35:01 -0400 (Mon, 15 Jul 2024) EllapsedTime: 150.2 seconds RetCode: 0 Status: OK CheckDir: rawDiag.Rcheck Warnings: 0