Package: rawDiag Version: 1.2.0 Command: rm -rf rawDiag.buildbin-libdir && mkdir rawDiag.buildbin-libdir && F:\biocbuild\bbs-3.20-bioc\R\bin\R.exe CMD INSTALL --build --library=rawDiag.buildbin-libdir rawDiag_1.2.0.tar.gz StartedAt: 2025-02-04 09:16:28 -0500 (Tue, 04 Feb 2025) EndedAt: 2025-02-04 09:16:53 -0500 (Tue, 04 Feb 2025) EllapsedTime: 24.7 seconds RetCode: 0 Status: OK PackageFile: rawDiag_1.2.0.zip PackageFileSize: 961.1 KiB