Package: rawDiag Version: 1.2.0 Command: chmod a+r rawDiag -R && F:\biocbuild\bbs-3.20-bioc\R\bin\R.exe CMD build --keep-empty-dirs --no-resave-data rawDiag StartedAt: 2025-02-03 21:30:33 -0500 (Mon, 03 Feb 2025) EndedAt: 2025-02-03 21:33:31 -0500 (Mon, 03 Feb 2025) EllapsedTime: 177.9 seconds RetCode: 0 Status: OK PackageFile: rawDiag_1.2.0.tar.gz PackageFileSize: 940.2 KiB