Package: rawDiag Version: 1.2.0 Command: F:\biocbuild\bbs-3.20-bioc\R\bin\R.exe CMD INSTALL rawDiag StartedAt: 2025-02-03 15:55:01 -0500 (Mon, 03 Feb 2025) EndedAt: 2025-02-03 15:55:15 -0500 (Mon, 03 Feb 2025) EllapsedTime: 14.0 seconds RetCode: 0 Status: OK