##############################################################################
##############################################################################
###
### Running command:
###
###   /home/biocbuild/R/R/bin/R CMD build --keep-empty-dirs --no-resave-data rawDiag
###
##############################################################################
##############################################################################


* checking for file ‘rawDiag/DESCRIPTION’ ... OK
* preparing ‘rawDiag’:
* checking DESCRIPTION meta-information ... OK
* installing the package to build vignettes
      -----------------------------------
ERROR: dependency ‘rawrr’ is not available for package ‘rawDiag’
* removing ‘/home/biocbuild/tmp/RtmpZRg9Oe/Rinst1078da24ed09fa/rawDiag’
      -----------------------------------
ERROR: package installation failed