Package: rawDiag Version: 1.2.0 Command: /home/biocbuild/R/R/bin/R CMD build --keep-empty-dirs --no-resave-data rawDiag StartedAt: 2025-02-04 02:05:36 -0000 (Tue, 04 Feb 2025) EndedAt: 2025-02-04 02:05:37 -0000 (Tue, 04 Feb 2025) EllapsedTime: 1.0 seconds RetCode: 1 Status: ERROR PackageFile: None PackageFileSize: NA