Package: rawrr Version: 1.14.0 Command: /Library/Frameworks/R.framework/Resources/bin/R CMD check --install=check:rawrr.install-out.txt --library=/Library/Frameworks/R.framework/Resources/library --no-vignettes --timings rawrr_1.14.0.tar.gz StartedAt: 2025-02-01 05:57:42 -0500 (Sat, 01 Feb 2025) EndedAt: 2025-02-01 05:59:03 -0500 (Sat, 01 Feb 2025) EllapsedTime: 81.4 seconds RetCode: 1 Status: ERROR CheckDir: rawrr.Rcheck Warnings: NA