Package: rawrr Version: 1.14.0 Command: /Library/Frameworks/R.framework/Resources/bin/R CMD build --keep-empty-dirs --no-resave-data rawrr StartedAt: 2025-01-30 22:05:41 -0500 (Thu, 30 Jan 2025) EndedAt: 2025-01-30 22:07:05 -0500 (Thu, 30 Jan 2025) EllapsedTime: 84.6 seconds RetCode: 0 Status: OK PackageFile: rawrr_1.14.0.tar.gz PackageFileSize: 1.962 MiB