Package: rawrr Version: 1.14.0 Command: /home/biocbuild/R/R/bin/R CMD INSTALL rawrr StartedAt: 2025-01-30 20:06:54 -0000 (Thu, 30 Jan 2025) EndedAt: 2025-01-30 20:07:19 -0000 (Thu, 30 Jan 2025) EllapsedTime: 25.6 seconds RetCode: 1 Status: ERROR