Package: rcellminer Version: 2.28.0 Command: rm -rf rcellminer.buildbin-libdir && mkdir rcellminer.buildbin-libdir && /Users/biocbuild/BBS/utils/build-universal.sh rcellminer_2.28.0.tar.gz /Library/Frameworks/R.framework/Resources/bin/R rcellminer.buildbin-libdir StartedAt: 2025-02-05 17:18:53 -0500 (Wed, 05 Feb 2025) EndedAt: 2025-02-05 17:19:04 -0500 (Wed, 05 Feb 2025) EllapsedTime: 10.3 seconds RetCode: 0 Status: OK PackageFile: rcellminer_2.28.0.tgz PackageFileSize: 2.902 MiB