Package: rcellminer Version: 2.28.0 Command: /Library/Frameworks/R.framework/Resources/bin/R CMD INSTALL rcellminer StartedAt: 2025-02-03 16:35:51 -0500 (Mon, 03 Feb 2025) EndedAt: 2025-02-03 16:35:59 -0500 (Mon, 03 Feb 2025) EllapsedTime: 8.1 seconds RetCode: 0 Status: OK