Package: rcellminer Version: 2.28.0 Command: /Library/Frameworks/R.framework/Resources/bin/R CMD build --keep-empty-dirs --no-resave-data rcellminer StartedAt: 2024-11-08 18:43:48 -0500 (Fri, 08 Nov 2024) EndedAt: 2024-11-08 18:45:00 -0500 (Fri, 08 Nov 2024) EllapsedTime: 71.8 seconds RetCode: 0 Status: OK PackageFile: rcellminer_2.28.0.tar.gz PackageFileSize: 2.649 MiB