Package: rcellminer Version: 2.28.0 Command: /Library/Frameworks/R.framework/Resources/bin/R CMD build --keep-empty-dirs --no-resave-data rcellminer StartedAt: 2025-02-03 21:34:43 -0500 (Mon, 03 Feb 2025) EndedAt: 2025-02-03 21:39:44 -0500 (Mon, 03 Feb 2025) EllapsedTime: 301.3 seconds RetCode: 0 Status: OK PackageFile: rcellminer_2.28.0.tar.gz PackageFileSize: 2.649 MiB