Package: rcellminer Version: 2.28.0 Command: /Library/Frameworks/R.framework/Resources/bin/R CMD check --install=check:rcellminer.install-out.txt --library=/Library/Frameworks/R.framework/Resources/library --no-vignettes --timings rcellminer_2.28.0.tar.gz StartedAt: 2025-02-04 08:38:21 -0500 (Tue, 04 Feb 2025) EndedAt: 2025-02-04 08:42:06 -0500 (Tue, 04 Feb 2025) EllapsedTime: 224.7 seconds RetCode: 0 Status: WARNINGS CheckDir: rcellminer.Rcheck Warnings: 1