Package: rcellminer Version: 2.28.0 Command: /Library/Frameworks/R.framework/Resources/bin/R CMD INSTALL rcellminer StartedAt: 2025-02-03 16:02:15 -0500 (Mon, 03 Feb 2025) EndedAt: 2025-02-03 16:02:32 -0500 (Mon, 03 Feb 2025) EllapsedTime: 16.9 seconds RetCode: 0 Status: OK