Package: rcellminer Version: 2.28.0 Command: /home/biocbuild/bbs-3.20-bioc/R/bin/R CMD check --install=check:rcellminer.install-out.txt --library=/home/biocbuild/bbs-3.20-bioc/R/site-library --timings rcellminer_2.28.0.tar.gz StartedAt: 2025-02-04 01:36:52 -0500 (Tue, 04 Feb 2025) EndedAt: 2025-02-04 01:41:11 -0500 (Tue, 04 Feb 2025) EllapsedTime: 258.4 seconds RetCode: 0 Status: WARNINGS CheckDir: rcellminer.Rcheck Warnings: 1