Package: rcellminer Version: 2.28.0 Command: /home/biocbuild/bbs-3.20-bioc/R/bin/R CMD INSTALL rcellminer StartedAt: 2025-02-03 15:40:46 -0500 (Mon, 03 Feb 2025) EndedAt: 2025-02-03 15:40:53 -0500 (Mon, 03 Feb 2025) EllapsedTime: 6.8 seconds RetCode: 0 Status: OK