Package: rcellminer Version: 2.28.0 Command: F:\biocbuild\bbs-3.20-bioc\R\bin\R.exe CMD check --no-multiarch --install=check:rcellminer.install-out.txt --library=F:\biocbuild\bbs-3.20-bioc\R\library --no-vignettes --timings rcellminer_2.28.0.tar.gz StartedAt: 2025-02-04 05:19:37 -0500 (Tue, 04 Feb 2025) EndedAt: 2025-02-04 05:22:30 -0500 (Tue, 04 Feb 2025) EllapsedTime: 172.2 seconds RetCode: 0 Status: WARNINGS CheckDir: rcellminer.Rcheck Warnings: 1