Package: rcellminer Version: 2.28.0 Command: /home/biocbuild/R/R/bin/R CMD build --keep-empty-dirs --no-resave-data rcellminer StartedAt: 2025-02-04 02:07:22 -0000 (Tue, 04 Feb 2025) EndedAt: 2025-02-04 02:10:35 -0000 (Tue, 04 Feb 2025) EllapsedTime: 193.3 seconds RetCode: 0 Status: OK PackageFile: rcellminer_2.28.0.tar.gz PackageFileSize: 1011 KiB