Package: rcellminer Version: 2.28.0 Command: /home/biocbuild/R/R/bin/R CMD INSTALL rcellminer StartedAt: 2025-02-03 20:54:58 -0000 (Mon, 03 Feb 2025) EndedAt: 2025-02-03 20:55:07 -0000 (Mon, 03 Feb 2025) EllapsedTime: 8.9 seconds RetCode: 0 Status: OK