Package: rebook Version: 1.16.0 Command: /Library/Frameworks/R.framework/Resources/bin/R CMD build --keep-empty-dirs --no-resave-data rebook StartedAt: 2025-02-04 06:23:26 -0500 (Tue, 04 Feb 2025) EndedAt: 2025-02-04 06:23:59 -0500 (Tue, 04 Feb 2025) EllapsedTime: 33.1 seconds RetCode: 0 Status: OK PackageFile: rebook_1.16.0.tar.gz PackageFileSize: 262.6 KiB