Package: rebook Version: 1.16.0 Command: /home/biocbuild/bbs-3.20-bioc/R/bin/R CMD INSTALL rebook StartedAt: 2025-02-17 15:38:18 -0500 (Mon, 17 Feb 2025) EndedAt: 2025-02-17 15:38:22 -0500 (Mon, 17 Feb 2025) EllapsedTime: 4.0 seconds RetCode: 0 Status: OK