Package: rebook
Version: 1.16.0
Command: /home/biocbuild/bbs-3.20-bioc/R/bin/R CMD check --install=check:rebook.install-out.txt --library=/home/biocbuild/bbs-3.20-bioc/R/site-library --timings rebook_1.16.0.tar.gz
StartedAt: 2024-11-20 08:11:43 -0500 (Wed, 20 Nov 2024)
EndedAt: 2024-11-20 08:13:45 -0500 (Wed, 20 Nov 2024)
EllapsedTime: 121.2 seconds
RetCode: 0
Status: WARNINGS
CheckDir: rebook.Rcheck
Warnings: 2