Package: receptLoss
Version: 1.18.0
Command: /Library/Frameworks/R.framework/Resources/bin/R CMD check --install=check:receptLoss.install-out.txt --library=/Library/Frameworks/R.framework/Resources/library --no-vignettes --timings receptLoss_1.18.0.tar.gz
StartedAt: 2025-02-19 06:13:56 -0500 (Wed, 19 Feb 2025)
EndedAt: 2025-02-19 06:16:50 -0500 (Wed, 19 Feb 2025)
EllapsedTime: 173.4 seconds
RetCode: 0
Status: OK
CheckDir: receptLoss.Rcheck
Warnings: 0